BEGIN:VCALENDAR
VERSION:2.0
PRODID:-//Healthwatch Central Bedfordshire - ECPv6.15.20//NONSGML v1.0//EN
CALSCALE:GREGORIAN
METHOD:PUBLISH
X-ORIGINAL-URL:https://healthwatch-centralbedfordshire.org.uk
X-WR-CALDESC:Events for Healthwatch Central Bedfordshire
REFRESH-INTERVAL;VALUE=DURATION:PT1H
X-Robots-Tag:noindex
X-PUBLISHED-TTL:PT1H
BEGIN:VTIMEZONE
TZID:Europe/London
BEGIN:DAYLIGHT
TZOFFSETFROM:+0000
TZOFFSETTO:+0100
TZNAME:BST
DTSTART:20250330T010000
END:DAYLIGHT
BEGIN:STANDARD
TZOFFSETFROM:+0100
TZOFFSETTO:+0000
TZNAME:GMT
DTSTART:20251026T010000
END:STANDARD
BEGIN:DAYLIGHT
TZOFFSETFROM:+0000
TZOFFSETTO:+0100
TZNAME:BST
DTSTART:20260329T010000
END:DAYLIGHT
BEGIN:STANDARD
TZOFFSETFROM:+0100
TZOFFSETTO:+0000
TZNAME:GMT
DTSTART:20261025T010000
END:STANDARD
BEGIN:DAYLIGHT
TZOFFSETFROM:+0000
TZOFFSETTO:+0100
TZNAME:BST
DTSTART:20270328T010000
END:DAYLIGHT
BEGIN:STANDARD
TZOFFSETFROM:+0100
TZOFFSETTO:+0000
TZNAME:GMT
DTSTART:20271031T010000
END:STANDARD
END:VTIMEZONE
BEGIN:VEVENT
DTSTART;TZID=Europe/London:20260429T140000
DTEND;TZID=Europe/London:20260429T160000
DTSTAMP:20260422T131500
CREATED:20260401T121724Z
LAST-MODIFIED:20260413T102118Z
UID:21693-1777471200-1777478400@healthwatch-centralbedfordshire.org.uk
SUMMARY:Community Partnership Group - Learning Disabilities
DESCRIPTION:Our next Learning Disabilities Community Partnership Group meeting takes place on Wednesday 29 April 2026.\nThe meeting brings together people with a learning disability\, their family members and Carers sharing lived experience\, and professionals. The session will include a welcome\, a personal story\, and informal discussions on support and how people with learning disabilities can be more involved in shaping local services. \nCome along and share your views to help shape improvements in learning disability support locally. \nContact Vicky or Jo on 0300 303 8554 or info@healthwatch-centralbedfordshire.org.uk\, to book your place.
URL:https://healthwatch-centralbedfordshire.org.uk/event/community-partnership-group-learning-disabilities
LOCATION:The Rufus Centre\, Steppingley Road\, Flitwick\, Beds\, MK45 1AH\, United Kingdom
ATTACH;FMTTYPE=image/png:https://healthwatch-centralbedfordshire.org.uk/wp-content/uploads/2026/04/LD-CPG-April-26.png
ORGANIZER;CN="Healthwatch Central Bedfordshire":MAILTO:info@healthwatch-centralbedfordshire.org.uk
END:VEVENT
END:VCALENDAR